BEGIN:VCALENDAR
VERSION:2.0
PRODID:-//Wilton Women's Week - ECPv6.15.20//NONSGML v1.0//EN
CALSCALE:GREGORIAN
METHOD:PUBLISH
X-WR-CALNAME:Wilton Women's Week
X-ORIGINAL-URL:https://wiltonwomensweek.org
X-WR-CALDESC:Events for Wilton Women's Week
REFRESH-INTERVAL;VALUE=DURATION:PT1H
X-Robots-Tag:noindex
X-PUBLISHED-TTL:PT1H
BEGIN:VTIMEZONE
TZID:America/New_York
BEGIN:DAYLIGHT
TZOFFSETFROM:-0500
TZOFFSETTO:-0400
TZNAME:EDT
DTSTART:20250309T070000
END:DAYLIGHT
BEGIN:STANDARD
TZOFFSETFROM:-0400
TZOFFSETTO:-0500
TZNAME:EST
DTSTART:20251102T060000
END:STANDARD
BEGIN:DAYLIGHT
TZOFFSETFROM:-0500
TZOFFSETTO:-0400
TZNAME:EDT
DTSTART:20260308T070000
END:DAYLIGHT
BEGIN:STANDARD
TZOFFSETFROM:-0400
TZOFFSETTO:-0500
TZNAME:EST
DTSTART:20261101T060000
END:STANDARD
BEGIN:DAYLIGHT
TZOFFSETFROM:-0500
TZOFFSETTO:-0400
TZNAME:EDT
DTSTART:20270314T070000
END:DAYLIGHT
BEGIN:STANDARD
TZOFFSETFROM:-0400
TZOFFSETTO:-0500
TZNAME:EST
DTSTART:20271107T060000
END:STANDARD
END:VTIMEZONE
BEGIN:VEVENT
DTSTART;TZID=America/New_York:20260426T160000
DTEND;TZID=America/New_York:20260426T200000
DTSTAMP:20260421T160200
CREATED:20260224T135138Z
LAST-MODIFIED:20260305T161323Z
UID:10000015-1777219200-1777233600@wiltonwomensweek.org
SUMMARY:Get it Hot and Hit it Hard! 🔥🔨  A Very Hands-On Introduction to Blacksmithing
DESCRIPTION:Amy—your local Realestateologist—has a slightly unhinged (and extremely satisfying) hobby she’s ready to share with the Wilton Women’s Week community: blacksmithing. \n\n\n\nIf you’ve ever wanted to hit hot steel with a hammer\, channel your inner warrior\, or just watch sparks fly while cheering on your favorite badass\, this is your moment. \n\n\n\nThis is a free\, hands-on introduction to blacksmithing\, held in a real shop with real fire and real tools. The number of participants who can actually work the metal is limited to eight (8)—so if you want to swing the hammer\, you must register. Friends are welcome to come hang out\, spectate\, hype you up\, or just enjoy the air-conditioned chill zone. \n\n\n\n****Important***** (aka: don’t show up in sandals):Closed-toe shoes requiredCotton or denim clothing only (fire-resistant is the goal; synthetic fabrics are a hard no)Water\, gloves\, and safety glasses will be provided for participants working the metalWaiver required before participation \n\n\n\nIf you’re coming to hang out rather than hit steel:BYOB (Bring Your Own Beverage)Bring Your Own Chair \n\n\n\nCome forge something cool\, laugh a lot\, meet amazing women\, and maybe discover that hitting hot metal is exactly the therapy you didn’t know you needed. \n\n\n\n🔥 Strong arms. Strong community. Strong vibes. 🔥 \n\n\n\n\nReserve A Spot
URL:https://wiltonwomensweek.org/event/get-it-hot-and-hit-it-hard-a-very-hands-on-introduction-to-blacksmithing/
LOCATION:The Dixie House\, 1816 N Dixie Highway\, Unit A3\, Fort Lauderdale\, FL\, 33305\, United States
ATTACH;FMTTYPE=image/png:https://wiltonwomensweek.org/wp-content/uploads/2026/02/Hot-and-hard-with-dates-and-location-1-e1772727183714.png
ORGANIZER;CN="Amy%2C Your Realestateologist":MAILTO:southfloridaamy@gmail.com
END:VEVENT
END:VCALENDAR