BEGIN:VCALENDAR
VERSION:2.0
PRODID:-//Wilton Women's Week - ECPv6.15.20//NONSGML v1.0//EN
CALSCALE:GREGORIAN
METHOD:PUBLISH
X-WR-CALNAME:Wilton Women's Week
X-ORIGINAL-URL:https://wiltonwomensweek.org
X-WR-CALDESC:Events for Wilton Women's Week
REFRESH-INTERVAL;VALUE=DURATION:PT1H
X-Robots-Tag:noindex
X-PUBLISHED-TTL:PT1H
BEGIN:VTIMEZONE
TZID:America/New_York
BEGIN:DAYLIGHT
TZOFFSETFROM:-0500
TZOFFSETTO:-0400
TZNAME:EDT
DTSTART:20250309T070000
END:DAYLIGHT
BEGIN:STANDARD
TZOFFSETFROM:-0400
TZOFFSETTO:-0500
TZNAME:EST
DTSTART:20251102T060000
END:STANDARD
BEGIN:DAYLIGHT
TZOFFSETFROM:-0500
TZOFFSETTO:-0400
TZNAME:EDT
DTSTART:20260308T070000
END:DAYLIGHT
BEGIN:STANDARD
TZOFFSETFROM:-0400
TZOFFSETTO:-0500
TZNAME:EST
DTSTART:20261101T060000
END:STANDARD
BEGIN:DAYLIGHT
TZOFFSETFROM:-0500
TZOFFSETTO:-0400
TZNAME:EDT
DTSTART:20270314T070000
END:DAYLIGHT
BEGIN:STANDARD
TZOFFSETFROM:-0400
TZOFFSETTO:-0500
TZNAME:EST
DTSTART:20271107T060000
END:STANDARD
END:VTIMEZONE
BEGIN:VEVENT
DTSTART;TZID=America/New_York:20260427T183000
DTEND;TZID=America/New_York:20260427T203000
DTSTAMP:20260421T204536
CREATED:20260302T211943Z
LAST-MODIFIED:20260404T141613Z
UID:10000057-1777314600-1777321800@wiltonwomensweek.org
SUMMARY:Intro to Improv
DESCRIPTION:Join Thinking Cap Theatre at Sunshine Cathedral for a special Intro to Improv Class led by a trio of professional teaching artists! \n\n\n\nCreativity! Conversation! Collaboration! Community! Confidence-Building!Join Thinking Cap Theatre at Sunshine Cathedral for a special Intro to Improv Class led by a trio of tremendously talented professional teaching artists!In this 90-minute session\, participants will learn and practice the fundamentals of improv. Through exercises\, storytellinging\, and games\, participants will build confidence and develop skills that can be applied on stage\, in the office\, and in everyday life.No prior experience is needed to register. Come ready to play\, laugh\, learn\, and support your fellow participants. \n\n\n\nThis event is offered in partnership with Wilton Women’s Week.This program is sponsored in part by The OurFund Foundation and Community Foundation of Broward. It is presented in partnership with Wilton Women’s Week. \n\n\n\n \n\n\n\n\nGet Tickets Here
URL:https://wiltonwomensweek.org/event/mollys-dream-by-maria-irene-fornes-with-a-new-score-by-hola-hi/
LOCATION:Sunshine Cathedral\, 1480 SW 9th Avenue\, Fort Lauderdale\, Florida\, 33315
ATTACH;FMTTYPE=image/jpeg:https://wiltonwomensweek.org/wp-content/uploads/2026/03/Improv.jpg
END:VEVENT
BEGIN:VEVENT
DTSTART;TZID=America/New_York:20260429T190000
DTEND;TZID=America/New_York:20260429T210000
DTSTAMP:20260421T204536
CREATED:20260302T160604Z
LAST-MODIFIED:20260313T123555Z
UID:10000042-1777489200-1777496400@wiltonwomensweek.org
SUMMARY:Out Loud - Women's Voices Live
DESCRIPTION:Out Loud – Women’s Voices Live \n\n\n\nJoin us for an unforgettable evening celebrating the power\, passion\, and brilliance of women’s voices at Out Loud – Women’s Voices Live. This dynamic showcase of spoken word\, song\, and comedy brings together incredible local and national talent for one inspiring night. \n\n\n\nHosted by beloved radio personality KimmieB\, the evening begins with moving spoken word from local poet LyricalMe\, whose powerful messages sets the tone for the night. We’ll then be lifted by the harmonies of the Broward Women’s Chorus\, celebrating community and connection through song. Closing out the evening is comedian\, actor and writer Irene Tu\, bringing sharp wit and laugh-out-loud humor to the stage. \n\n\n\nFrom heartfelt to hilarious\, Out Loud honors the many ways women share their stories\, express their truth\, and move the world. Come be inspired\, entertained\, and uplifted as we celebrate women’s voices—together. \n\n\n\n\nGet Tickets
URL:https://wiltonwomensweek.org/event/out-loud-womens-voices-live/
LOCATION:Sunshine Cathedral\, 1480 SW 9th Avenue\, Fort Lauderdale\, Florida\, 33315
ATTACH;FMTTYPE=image/jpeg:https://wiltonwomensweek.org/wp-content/uploads/2026/03/OutLoud_1080x1080-scaled.jpg
ORGANIZER;CN="Women with Pride":MAILTO:Dpappafotis@pridecenterflorida.org
END:VEVENT
END:VCALENDAR