BEGIN:VCALENDAR
VERSION:2.0
PRODID:-//Wilton Women's Week - ECPv6.15.20//NONSGML v1.0//EN
CALSCALE:GREGORIAN
METHOD:PUBLISH
X-WR-CALNAME:Wilton Women's Week
X-ORIGINAL-URL:https://wiltonwomensweek.org
X-WR-CALDESC:Events for Wilton Women's Week
REFRESH-INTERVAL;VALUE=DURATION:PT1H
X-Robots-Tag:noindex
X-PUBLISHED-TTL:PT1H
BEGIN:VTIMEZONE
TZID:America/New_York
BEGIN:DAYLIGHT
TZOFFSETFROM:-0500
TZOFFSETTO:-0400
TZNAME:EDT
DTSTART:20250309T070000
END:DAYLIGHT
BEGIN:STANDARD
TZOFFSETFROM:-0400
TZOFFSETTO:-0500
TZNAME:EST
DTSTART:20251102T060000
END:STANDARD
BEGIN:DAYLIGHT
TZOFFSETFROM:-0500
TZOFFSETTO:-0400
TZNAME:EDT
DTSTART:20260308T070000
END:DAYLIGHT
BEGIN:STANDARD
TZOFFSETFROM:-0400
TZOFFSETTO:-0500
TZNAME:EST
DTSTART:20261101T060000
END:STANDARD
BEGIN:DAYLIGHT
TZOFFSETFROM:-0500
TZOFFSETTO:-0400
TZNAME:EDT
DTSTART:20270314T070000
END:DAYLIGHT
BEGIN:STANDARD
TZOFFSETFROM:-0400
TZOFFSETTO:-0500
TZNAME:EST
DTSTART:20271107T060000
END:STANDARD
END:VTIMEZONE
BEGIN:VEVENT
DTSTART;TZID=America/New_York:20260503T120000
DTEND;TZID=America/New_York:20260503T140000
DTSTAMP:20260422T044051
CREATED:20260301T185517Z
LAST-MODIFIED:20260301T185519Z
UID:10000049-1777809600-1777816800@wiltonwomensweek.org
SUMMARY:Brunch\, Música y Conversación en Español
DESCRIPTION:Brunch\, Música y Conversación en Español— celebrating community\, connection\, culture & good vibes.\n\nPara hispanohablantes y para quienes quieren practicar y aprender el idioma en comunidad lésbica y queer.\n\nCelebremos junt@s creando un espacio para conversar\, escuchar música en español\, compartir comida rica y disfrutar el domingo en comunidad en La Mexicana en Wilton Manors.\n\nHabrá algunas preguntas divertidas sobre el amor y las relaciones — opcionales y ligeras — para quienes quieran profundizar un poquito más en la conversación mientras disfrutamos el día.\n\nA Spanish-speaking brunch for Spanish speakers — and those who would enjoy practicing the language — within lesbian & queer community.\n\nJoin us to share conversation\, Spanish-language music\, and delicious food available for purchase at La Mexicana in Wilton Manors.\n\nThere will also be some playful prompts about love and relationships — optional and light — for anyone who wants to deepen the conversation a little while we enjoy the brunch together.\n\n✨ Primera margarita gratis\, cortesía de Diva. First Margarita free\, thanks to Diva.
URL:https://wiltonwomensweek.org/event/brunch-musica-y-conversacion-en-espanol/
LOCATION:La Mexicana Taco Bar\, 2430 NE 13th Ave.\, Wilton Manors\, FL\, 33305\, United States
ATTACH;FMTTYPE=image/jpeg:https://wiltonwomensweek.org/wp-content/uploads/2026/02/Brunch-en-Espanol-en-la-Mexicana.jpg
ORGANIZER;CN="Jen Solin Coaching":MAILTO:support@jensolincoaching.com
END:VEVENT
END:VCALENDAR