BEGIN:VCALENDAR
VERSION:2.0
PRODID:-//Wilton Women's Week - ECPv6.15.20//NONSGML v1.0//EN
CALSCALE:GREGORIAN
METHOD:PUBLISH
X-WR-CALNAME:Wilton Women's Week
X-ORIGINAL-URL:https://wiltonwomensweek.org
X-WR-CALDESC:Events for Wilton Women's Week
REFRESH-INTERVAL;VALUE=DURATION:PT1H
X-Robots-Tag:noindex
X-PUBLISHED-TTL:PT1H
BEGIN:VTIMEZONE
TZID:America/New_York
BEGIN:DAYLIGHT
TZOFFSETFROM:-0500
TZOFFSETTO:-0400
TZNAME:EDT
DTSTART:20250309T070000
END:DAYLIGHT
BEGIN:STANDARD
TZOFFSETFROM:-0400
TZOFFSETTO:-0500
TZNAME:EST
DTSTART:20251102T060000
END:STANDARD
BEGIN:DAYLIGHT
TZOFFSETFROM:-0500
TZOFFSETTO:-0400
TZNAME:EDT
DTSTART:20260308T070000
END:DAYLIGHT
BEGIN:STANDARD
TZOFFSETFROM:-0400
TZOFFSETTO:-0500
TZNAME:EST
DTSTART:20261101T060000
END:STANDARD
BEGIN:DAYLIGHT
TZOFFSETFROM:-0500
TZOFFSETTO:-0400
TZNAME:EDT
DTSTART:20270314T070000
END:DAYLIGHT
BEGIN:STANDARD
TZOFFSETFROM:-0400
TZOFFSETTO:-0500
TZNAME:EST
DTSTART:20271107T060000
END:STANDARD
END:VTIMEZONE
BEGIN:VEVENT
DTSTART;TZID=America/New_York:20260424T190000
DTEND;TZID=America/New_York:20260424T213000
DTSTAMP:20260422T030224
CREATED:20260225T221200Z
LAST-MODIFIED:20260303T150816Z
UID:10000035-1777057200-1777066200@wiltonwomensweek.org
SUMMARY:Women's Night at the Theatre: Everything Beautiful Happens at Night
DESCRIPTION:Join Island City Stage for a special Wilton Women’s Week reception and live stage presentation of “Everything Beautiful Happens at Night”\, a new play by Ted Malawer (Red\, White\, & Royal Blue). \nEzra is a closeted children’s book author. Nancy is his fiercely loyal editor. Their creative partnership has shaped stories that delight generations. But when writer’s block pushes Ezra far past deadlines to deliver his latest book\, a new voice enters the conversation and begins to change Ezra’s life\, inspiring a controversial ending to Chipmunk and Squirrel\, and testing the limits of his friendship with Nancy. \nDirected by Carbonell and Silver Palm Award winner\, Bruce Linser\, utilizing stunning illustrations by multi-award-winning artist Bong Redila\, and featuring Silver Palm Award winner Laura Turnbull\, Carbonell Award nominated Christopher Dreeson\, and Aidan Paul\, “Everything Beautiful Happens at Night” is a tender\, funny\, and moving story about the life you have\, the life you want\, and who stays when the world gets quiet. \n\n\n\nGet Tickets Here
URL:https://wiltonwomensweek.org/event/womens-night-at-the-theatre-everything-beautiful-happens-at-night/
LOCATION:Island City Stage\, 2304 N. Dixie Hwy\, Wilton Manors\, FL\, 33305\, United States
ATTACH;FMTTYPE=image/jpeg:https://wiltonwomensweek.org/wp-content/uploads/2026/02/Everything-Beautiful-Womens-Week.jpeg
ORGANIZER;CN="Island City Stage":MAILTO:cmichaels@islandcitystage.org
END:VEVENT
END:VCALENDAR