BEGIN:VCALENDAR
VERSION:2.0
PRODID:-//Wilton Women's Week - ECPv6.15.20//NONSGML v1.0//EN
CALSCALE:GREGORIAN
METHOD:PUBLISH
X-ORIGINAL-URL:https://wiltonwomensweek.org
X-WR-CALDESC:Events for Wilton Women's Week
REFRESH-INTERVAL;VALUE=DURATION:PT1H
X-Robots-Tag:noindex
X-PUBLISHED-TTL:PT1H
BEGIN:VTIMEZONE
TZID:America/New_York
BEGIN:DAYLIGHT
TZOFFSETFROM:-0500
TZOFFSETTO:-0400
TZNAME:EDT
DTSTART:20250309T070000
END:DAYLIGHT
BEGIN:STANDARD
TZOFFSETFROM:-0400
TZOFFSETTO:-0500
TZNAME:EST
DTSTART:20251102T060000
END:STANDARD
BEGIN:DAYLIGHT
TZOFFSETFROM:-0500
TZOFFSETTO:-0400
TZNAME:EDT
DTSTART:20260308T070000
END:DAYLIGHT
BEGIN:STANDARD
TZOFFSETFROM:-0400
TZOFFSETTO:-0500
TZNAME:EST
DTSTART:20261101T060000
END:STANDARD
BEGIN:DAYLIGHT
TZOFFSETFROM:-0500
TZOFFSETTO:-0400
TZNAME:EDT
DTSTART:20270314T070000
END:DAYLIGHT
BEGIN:STANDARD
TZOFFSETFROM:-0400
TZOFFSETTO:-0500
TZNAME:EST
DTSTART:20271107T060000
END:STANDARD
END:VTIMEZONE
BEGIN:VEVENT
DTSTART;TZID=America/New_York:20260426T150000
DTEND;TZID=America/New_York:20260426T190000
DTSTAMP:20260421T143808
CREATED:20260303T151454Z
LAST-MODIFIED:20260303T215812Z
UID:10000031-1777215600-1777230000@wiltonwomensweek.org
SUMMARY:SPEED DATING & Happily Ever After “Game Show”
DESCRIPTION:Femmes of Distinction Society LLC Presents:\nCome and experience the ultimate speed dating event for everyone\, where you could discover your soulmate or a new friend for Women’s Week! We also have a “Happily ever after”: Game Show\, where couples “Married or Been together for years” compete for amazing prizes\, and some can learn valuable tips on keeping their love alive. This night\, Femmes of Distinction promises a night of connections\, fun\, and a true experience of what it means to be a woman of distinction. \n\n\n\nPre-Register Here
URL:https://wiltonwomensweek.org/event/speed-dating-happily-ever-after-game-show-2/
LOCATION:Island City Cultural Center\, 600 NE 21st Ct. Wilton Manors 33305\, Wilton Manors\, FL\, 33305\, United States
ATTACH;FMTTYPE=image/jpeg:https://wiltonwomensweek.org/wp-content/uploads/2026/02/Event-1.jpg
ORGANIZER;CN="Femmes Of Distinction Society LLC":MAILTO:femmes.of.distinction@gmail.com
END:VEVENT
BEGIN:VEVENT
DTSTART;TZID=America/New_York:20260427T130000
DTEND;TZID=America/New_York:20260427T150000
DTSTAMP:20260421T143808
CREATED:20260329T225754Z
LAST-MODIFIED:20260329T225756Z
UID:10000069-1777294800-1777302000@wiltonwomensweek.org
SUMMARY:Singing Bowls Sensory Immersion
DESCRIPTION:A restorative sound journey using crystal signing bowls. Let the vibrations wash through your body\, quiet the mind and bring your nervous system back into harmony.  Led by Mahala Nirvano and Tantra Anna.
URL:https://wiltonwomensweek.org/event/singing-bowls-sensory-immersion/
LOCATION:Island City Cultural Center\, 600 NE 21st Ct. Wilton Manors 33305\, Wilton Manors\, FL\, 33305\, United States
ATTACH;FMTTYPE=image/jpeg:https://wiltonwomensweek.org/wp-content/uploads/2026/03/IMG_1326.jpeg
END:VEVENT
BEGIN:VEVENT
DTSTART;TZID=America/New_York:20260430T160000
DTEND;TZID=America/New_York:20260430T180000
DTSTAMP:20260421T143808
CREATED:20260302T191420Z
LAST-MODIFIED:20260302T191422Z
UID:10000055-1777564800-1777572000@wiltonwomensweek.org
SUMMARY:Women's Art Show - Closing Reception
DESCRIPTION:Close out Wilton Women’s Week with an inspiring celebration of art\, love\, and community at the Closing Night Reception for Love Any Way Shape or Form. \n\n\n\nHosted by Halyna Shaw\, this special afternoon gathering brings artists and supporters together one final time to honor the creativity and connection that made this exhibition so powerful. Meet the artists\, sip on drinks\, and enjoy light bites as we celebrate the many beautiful expressions of love showcased throughout the show. \n\n\n\nBe there for the exciting announcement of our Silent Auction winners and the presentation of Best of Show\, as we recognize the outstanding work that captured hearts and imaginations. \n\n\n\nIn the spirit of giving back\, 10% of all art sales will support the vital programs and services of The Pride Center at Equality Park and its Women with Pride program. \n\n\n\nJoin us as we celebrate art\, uplift community\, and close Wilton Women’s Week in beautiful form.
URL:https://wiltonwomensweek.org/event/womens-art-show-closing-reception/
LOCATION:Island City Cultural Center\, 600 NE 21st Ct. Wilton Manors 33305\, Wilton Manors\, FL\, 33305\, United States
ATTACH;FMTTYPE=image/jpeg:https://wiltonwomensweek.org/wp-content/uploads/2026/03/Screen-Shot-2026-02-28-at-12.57.23-PM-1.jpeg
ORGANIZER;CN="Halyna Shaw":MAILTO:HalynaShaw@gmail.com
END:VEVENT
END:VCALENDAR