BEGIN:VCALENDAR
VERSION:2.0
PRODID:-//Wilton Women's Week - ECPv6.15.20//NONSGML v1.0//EN
CALSCALE:GREGORIAN
METHOD:PUBLISH
X-ORIGINAL-URL:https://wiltonwomensweek.org
X-WR-CALDESC:Events for Wilton Women's Week
REFRESH-INTERVAL;VALUE=DURATION:PT1H
X-Robots-Tag:noindex
X-PUBLISHED-TTL:PT1H
BEGIN:VTIMEZONE
TZID:America/New_York
BEGIN:DAYLIGHT
TZOFFSETFROM:-0500
TZOFFSETTO:-0400
TZNAME:EDT
DTSTART:20250309T070000
END:DAYLIGHT
BEGIN:STANDARD
TZOFFSETFROM:-0400
TZOFFSETTO:-0500
TZNAME:EST
DTSTART:20251102T060000
END:STANDARD
BEGIN:DAYLIGHT
TZOFFSETFROM:-0500
TZOFFSETTO:-0400
TZNAME:EDT
DTSTART:20260308T070000
END:DAYLIGHT
BEGIN:STANDARD
TZOFFSETFROM:-0400
TZOFFSETTO:-0500
TZNAME:EST
DTSTART:20261101T060000
END:STANDARD
BEGIN:DAYLIGHT
TZOFFSETFROM:-0500
TZOFFSETTO:-0400
TZNAME:EDT
DTSTART:20270314T070000
END:DAYLIGHT
BEGIN:STANDARD
TZOFFSETFROM:-0400
TZOFFSETTO:-0500
TZNAME:EST
DTSTART:20271107T060000
END:STANDARD
END:VTIMEZONE
BEGIN:VEVENT
DTSTART;TZID=America/New_York:20260430T190000
DTEND;TZID=America/New_York:20260430T200000
DTSTAMP:20260421T222147
CREATED:20260303T131600Z
LAST-MODIFIED:20260303T131603Z
UID:10000046-1777575600-1777579200@wiltonwomensweek.org
SUMMARY:Stop Kiss by Diana Son
DESCRIPTION:One kiss. New York City. Everything changes. In Diana Son’s Stop Kiss\, the acclaimed Off-Broadway hit\, two women meet by chance and discover a connection that transforms their lives. Told with a clever mix of past and present\, this heartfelt play celebrates love\, humor\, and the courage to be true. Funny\, tender\, and unforgettable\, it resonates with all audiences as two women find themselves\, and each other\, in ways they never expected. \nCallie: Mariantonia Mejia\nSara: Julia Avery\nGeorge: Ari Feldman\nPeter: Bob Ruggles\nOfficer Cole: Raven Adams\nMrs. Winsley & Nurse: Lin Joy Luber \nDirector: Carla Zackson Heller\nStage Manager: Lizy Bloom\n— \nSTOP KISS is made possible with support from the Community Foundation of Broward\, Our Fund Foundation\, and Skirt Foundation.\nFunds at the Community Foundation of Broward are generously supported by: Leo M. and Alice J. Rutten Fund\, August and Melba Urbanek Fund\, Huizenga Family Unrestricted Fund\, and The Frederick A. DeLuca Foundation Broward Community.
URL:https://wiltonwomensweek.org/event/stop-kiss-by-diana-son/2026-04-30/
LOCATION:Gray Box Theater\, 1444 NE 26th Street\, Wilton Manors\, Florida\, 33305
ATTACH;FMTTYPE=image/jpeg:https://wiltonwomensweek.org/wp-content/uploads/2026/02/Stop_Kiss_Cover_1080x1080.jpeg
ORGANIZER;CN="Lesbian Thespians":MAILTO:admin@lesbianthespians.org
END:VEVENT
BEGIN:VEVENT
DTSTART;TZID=America/New_York:20260501T193000
DTEND;TZID=America/New_York:20260501T223000
DTSTAMP:20260421T222147
CREATED:20260224T201436Z
LAST-MODIFIED:20260224T201437Z
UID:10000036-1777663800-1777674600@wiltonwomensweek.org
SUMMARY:BLINC Presents: Thou Art Woman-SENSORIUM
DESCRIPTION:Thou Art Woman: Sensorium ✨🔥\nAn immersive evening designed to awaken your senses and invite indulgence.\nThis is not a show you simply attend — it’s an experience you enter. A sensual\, art-forward\, unapologetically queer journey that engages sight\, sound\, touch\, taste\, and scent to create something you feel in your body — not just watch with your eyes. 💃🏽🎶🌹🍷\nFrom the moment you step into the room\, every detail is intentional. The lighting glows differently. The music moves through you. The air carries curated fragrance. Performers don’t just take the stage — they transform the space.\n✨ Live dancers & featured performers\n✨ Immersive\, five-senses design\n✨ Complimentary food included with entry\n✨ Cash bar\n✨ Curated vendors\n✨ Intimate\, elevated\, affirming atmosphere\nExpect artistry. Expect energy. Expect a room alive with presence\, pleasure\, and connection.\nThis is not passive entertainment.\nThis is embodied experience.\nCome open.\nCome curious.\nCome ready to feel. 💫 \nIndulge your senses.\nSurrender to the experience.\nThou Art Woman: Sensorium. \nTickets are limited so don’t miss your change to be a part of this incredible event. Please note\, venues and talent are subject to change. No refunds will be issued for any such reasons. Thank you for your support!
URL:https://wiltonwomensweek.org/event/blinc-presents-thou-art-woman-sensorium/
LOCATION:Gray Box Theater\, 1444 NE 26th Street\, Wilton Manors\, Florida\, 33305
ATTACH;FMTTYPE=image/jpeg:https://wiltonwomensweek.org/wp-content/uploads/2026/02/Thou-Art-Woman-SENSORIUM-5-1-2026.jpg
END:VEVENT
END:VCALENDAR