BEGIN:VCALENDAR
VERSION:2.0
PRODID:-//Wilton Women's Week - ECPv6.15.20//NONSGML v1.0//EN
CALSCALE:GREGORIAN
METHOD:PUBLISH
X-ORIGINAL-URL:https://wiltonwomensweek.org
X-WR-CALDESC:Events for Wilton Women's Week
REFRESH-INTERVAL;VALUE=DURATION:PT1H
X-Robots-Tag:noindex
X-PUBLISHED-TTL:PT1H
BEGIN:VTIMEZONE
TZID:America/New_York
BEGIN:DAYLIGHT
TZOFFSETFROM:-0500
TZOFFSETTO:-0400
TZNAME:EDT
DTSTART:20250309T070000
END:DAYLIGHT
BEGIN:STANDARD
TZOFFSETFROM:-0400
TZOFFSETTO:-0500
TZNAME:EST
DTSTART:20251102T060000
END:STANDARD
BEGIN:DAYLIGHT
TZOFFSETFROM:-0500
TZOFFSETTO:-0400
TZNAME:EDT
DTSTART:20260308T070000
END:DAYLIGHT
BEGIN:STANDARD
TZOFFSETFROM:-0400
TZOFFSETTO:-0500
TZNAME:EST
DTSTART:20261101T060000
END:STANDARD
BEGIN:DAYLIGHT
TZOFFSETFROM:-0500
TZOFFSETTO:-0400
TZNAME:EDT
DTSTART:20270314T070000
END:DAYLIGHT
BEGIN:STANDARD
TZOFFSETFROM:-0400
TZOFFSETTO:-0500
TZNAME:EST
DTSTART:20271107T060000
END:STANDARD
END:VTIMEZONE
BEGIN:VEVENT
DTSTART;TZID=America/New_York:20260425T080000
DTEND;TZID=America/New_York:20260425T100000
DTSTAMP:20260421T222147
CREATED:20260226T151325Z
LAST-MODIFIED:20260320T182802Z
UID:10000017-1777104000-1777111200@wiltonwomensweek.org
SUMMARY:Wilton Women's Walk/Run
DESCRIPTION:Front Runners and Walkers Fort Lauderdale is once again teaming up with Wilton Women’s Week for an 8:00 AM walk/run event on Saturday\, April 25th! The event will start and end at the Pride Center in Wilton Manors\, and will include a raffle drawing and a complimentary continental breakfast once you return. Check-in begins at 7:30 AM. While this is a FREE event\, we just ask that you register via our website (frwfl.org/women) so that we have a headcount for food. You can donate to Women with Pride when you register as well! We hope to see you there! \n\n\n\nRegister Here
URL:https://wiltonwomensweek.org/event/wilton-womens-walk-run/
LOCATION:The Pride Center at Equality Park\, 2040 N Dixie Highway\, Wilton Manors\, FL\, 33305\, United States
ATTACH;FMTTYPE=image/png:https://wiltonwomensweek.org/wp-content/uploads/2026/02/Wilton-Womens-Walk-Program-1.png
ORGANIZER;CN="Women with Pride":MAILTO:Dpappafotis@pridecenterflorida.org
END:VEVENT
END:VCALENDAR