BEGIN:VCALENDAR
VERSION:2.0
PRODID:-//Wilton Women's Week - ECPv6.15.20//NONSGML v1.0//EN
CALSCALE:GREGORIAN
METHOD:PUBLISH
X-WR-CALNAME:Wilton Women's Week
X-ORIGINAL-URL:https://wiltonwomensweek.org
X-WR-CALDESC:Events for Wilton Women's Week
REFRESH-INTERVAL;VALUE=DURATION:PT1H
X-Robots-Tag:noindex
X-PUBLISHED-TTL:PT1H
BEGIN:VTIMEZONE
TZID:America/New_York
BEGIN:DAYLIGHT
TZOFFSETFROM:-0500
TZOFFSETTO:-0400
TZNAME:EDT
DTSTART:20250309T070000
END:DAYLIGHT
BEGIN:STANDARD
TZOFFSETFROM:-0400
TZOFFSETTO:-0500
TZNAME:EST
DTSTART:20251102T060000
END:STANDARD
BEGIN:DAYLIGHT
TZOFFSETFROM:-0500
TZOFFSETTO:-0400
TZNAME:EDT
DTSTART:20260308T070000
END:DAYLIGHT
BEGIN:STANDARD
TZOFFSETFROM:-0400
TZOFFSETTO:-0500
TZNAME:EST
DTSTART:20261101T060000
END:STANDARD
BEGIN:DAYLIGHT
TZOFFSETFROM:-0500
TZOFFSETTO:-0400
TZNAME:EDT
DTSTART:20270314T070000
END:DAYLIGHT
BEGIN:STANDARD
TZOFFSETFROM:-0400
TZOFFSETTO:-0500
TZNAME:EST
DTSTART:20271107T060000
END:STANDARD
END:VTIMEZONE
BEGIN:VEVENT
DTSTART;TZID=America/New_York:20260429T130000
DTEND;TZID=America/New_York:20260429T150000
DTSTAMP:20260421T222219
CREATED:20260227T185831Z
LAST-MODIFIED:20260411T174707Z
UID:10000043-1777467600-1777474800@wiltonwomensweek.org
SUMMARY:Aromatherapy Wellness Sensory Experience
DESCRIPTION:Aromatherapy Wellness Experience hosted by Melinda from Twillie Bryant Creative. \n\n\n\nThis immersive workshop invites you to explore the healing power of essential oils and the art of intentional scent blending. Whether you’re new to aromatherapy or already love incorporating oils into your daily rituals\, this experience is designed to educate\, inspire\, and relax. \n\n\n\nCome unwind\, connect\, and awaken your senses during this beautifully curated wellness experience.  Please RSVP to SAGEsofl@gmail.com. \n\n\n\n\nRSVP Here
URL:https://wiltonwomensweek.org/event/aromatherapy-wellness-sensory-experience/
LOCATION:The Pride Center at Equality Park\, 2040 N Dixie Highway\, Wilton Manors\, FL\, 33305\, United States
ATTACH;FMTTYPE=image/jpeg:https://wiltonwomensweek.org/wp-content/uploads/2026/02/WWW-Aromatherapy-Sensory-Wellness-Experience.jpg
ORGANIZER;CN="Sage of South Florida":MAILTO:mgagnesage@gmail.com
END:VEVENT
END:VCALENDAR