BEGIN:VCALENDAR
VERSION:2.0
PRODID:-//Wilton Women's Week - ECPv6.15.20//NONSGML v1.0//EN
CALSCALE:GREGORIAN
METHOD:PUBLISH
X-ORIGINAL-URL:https://wiltonwomensweek.org
X-WR-CALDESC:Events for Wilton Women's Week
REFRESH-INTERVAL;VALUE=DURATION:PT1H
X-Robots-Tag:noindex
X-PUBLISHED-TTL:PT1H
BEGIN:VTIMEZONE
TZID:America/New_York
BEGIN:DAYLIGHT
TZOFFSETFROM:-0500
TZOFFSETTO:-0400
TZNAME:EDT
DTSTART:20250309T070000
END:DAYLIGHT
BEGIN:STANDARD
TZOFFSETFROM:-0400
TZOFFSETTO:-0500
TZNAME:EST
DTSTART:20251102T060000
END:STANDARD
BEGIN:DAYLIGHT
TZOFFSETFROM:-0500
TZOFFSETTO:-0400
TZNAME:EDT
DTSTART:20260308T070000
END:DAYLIGHT
BEGIN:STANDARD
TZOFFSETFROM:-0400
TZOFFSETTO:-0500
TZNAME:EST
DTSTART:20261101T060000
END:STANDARD
BEGIN:DAYLIGHT
TZOFFSETFROM:-0500
TZOFFSETTO:-0400
TZNAME:EDT
DTSTART:20270314T070000
END:DAYLIGHT
BEGIN:STANDARD
TZOFFSETFROM:-0400
TZOFFSETTO:-0500
TZNAME:EST
DTSTART:20271107T060000
END:STANDARD
END:VTIMEZONE
BEGIN:VEVENT
DTSTART;TZID=America/New_York:20260501T200000
DTEND;TZID=America/New_York:20260501T220000
DTSTAMP:20260422T030421
CREATED:20260303T131251Z
LAST-MODIFIED:20260331T123314Z
UID:10000058-1777665600-1777672800@wiltonwomensweek.org
SUMMARY:Drag King’s Court
DESCRIPTION:Join us for a deliciously sexy night of glamour\, entertainment\, and talent with our special host\, Ground Zero and his spectacular friends! Feel free to tip our performers to show your appreciation! As we celebrate queer community and support Wilton Women’s Week! We’ll have raffles and a delightful time you won’t want to miss!! \n\n\n\n\n\n\n\nGet Tickets Here
URL:https://wiltonwomensweek.org/event/drag-kings-court/
LOCATION:The Well\, 2426 Wilton Drive\, Wilton Manors\, Florida\, 33305
ATTACH;FMTTYPE=image/jpeg:https://wiltonwomensweek.org/wp-content/uploads/2026/03/DragKingFinal.jpg
ORGANIZER;CN="@queerwomxnsunny_s.fl":MAILTO:Tatianasblessed@gmail.com
END:VEVENT
END:VCALENDAR