BEGIN:VCALENDAR
VERSION:2.0
PRODID:-//Wilton Women's Week - ECPv6.15.20//NONSGML v1.0//EN
CALSCALE:GREGORIAN
METHOD:PUBLISH
X-WR-CALNAME:Wilton Women's Week
X-ORIGINAL-URL:https://wiltonwomensweek.org
X-WR-CALDESC:Events for Wilton Women's Week
REFRESH-INTERVAL;VALUE=DURATION:PT1H
X-Robots-Tag:noindex
X-PUBLISHED-TTL:PT1H
BEGIN:VTIMEZONE
TZID:America/New_York
BEGIN:DAYLIGHT
TZOFFSETFROM:-0500
TZOFFSETTO:-0400
TZNAME:EDT
DTSTART:20250309T070000
END:DAYLIGHT
BEGIN:STANDARD
TZOFFSETFROM:-0400
TZOFFSETTO:-0500
TZNAME:EST
DTSTART:20251102T060000
END:STANDARD
BEGIN:DAYLIGHT
TZOFFSETFROM:-0500
TZOFFSETTO:-0400
TZNAME:EDT
DTSTART:20260308T070000
END:DAYLIGHT
BEGIN:STANDARD
TZOFFSETFROM:-0400
TZOFFSETTO:-0500
TZNAME:EST
DTSTART:20261101T060000
END:STANDARD
BEGIN:DAYLIGHT
TZOFFSETFROM:-0500
TZOFFSETTO:-0400
TZNAME:EDT
DTSTART:20270314T070000
END:DAYLIGHT
BEGIN:STANDARD
TZOFFSETFROM:-0400
TZOFFSETTO:-0500
TZNAME:EST
DTSTART:20271107T060000
END:STANDARD
END:VTIMEZONE
BEGIN:VEVENT
DTSTART;TZID=America/New_York:20260501T194500
DTEND;TZID=America/New_York:20260501T233000
DTSTAMP:20260422T000117
CREATED:20260302T172735Z
LAST-MODIFIED:20260416T223332Z
UID:10000052-1777664700-1777678200@wiltonwomensweek.org
SUMMARY:OUTshine Ladies' Spotlight Film & After Party
DESCRIPTION:OUTshine LGBTQ+ Film Festival: Spring Edition 2026\nLadies’ Spotlight Film & After Party\nAfter Party at J.Marks w/ lite bites & open bar \nFEATURE FILM: ERUPCJA \nErupcja\n Director: Pete Ohs\n Country: United States\n Language: English and Polish with English subtitles\n Year: 2025\n Genre: Drama\, Lesbian\n Runtime: 71 minutes \nSYNOPSIS: In her first starring role\, pop icon Charli XCX stars as Bethany\, a woman who abruptly derails a romantic vacation in Poland after suspecting her devoted boyfriend\, Rob\, is about to propose. Breaking from the carefully planned itinerary\, Bethany reconnects with an old friend\, Nel\, and the two spark a quiet yet smoldering chemistry rooted in shared history\, poetry\, and unspoken desire. As Rob wanders Warsaw searching for answers\, the trio confronts the fragile line between destiny and chance. An improvisational postcard romance\, Erupcja uses volcanic imagery to mirror its characters’ repressed longings and emotional eruptions. \nLOGLINE: A Polish getaway turns deliciously queer when Charli XCX ditches her boyfriend and reconnects with a former flame\, sparking a chaste-but-burning sapphic romance fueled by poetry and longing. \n\n\n\n\n\n\n\nGet Tickets
URL:https://wiltonwomensweek.org/event/outshine-ladies-spotlight-film-after-party/
LOCATION:Paradigm Cinemas: Gateway Fort Lauderdale\, 1820 E Sunrise Blvd.\, Fort Lauderdale\, FL\, 33304\, United States
ATTACH;FMTTYPE=image/jpeg:https://wiltonwomensweek.org/wp-content/uploads/2026/03/Outshine2.jpg
ORGANIZER;CN="OUTshine LGBTQ+ Film Festival":MAILTO:alexis@outshinefilm.com
END:VEVENT
END:VCALENDAR