BEGIN:VCALENDAR
VERSION:2.0
PRODID:-//Wilton Women's Week - ECPv6.15.20//NONSGML v1.0//EN
CALSCALE:GREGORIAN
METHOD:PUBLISH
X-WR-CALNAME:Wilton Women's Week
X-ORIGINAL-URL:https://wiltonwomensweek.org
X-WR-CALDESC:Events for Wilton Women's Week
REFRESH-INTERVAL;VALUE=DURATION:PT1H
X-Robots-Tag:noindex
X-PUBLISHED-TTL:PT1H
BEGIN:VTIMEZONE
TZID:America/New_York
BEGIN:DAYLIGHT
TZOFFSETFROM:-0500
TZOFFSETTO:-0400
TZNAME:EDT
DTSTART:20250309T070000
END:DAYLIGHT
BEGIN:STANDARD
TZOFFSETFROM:-0400
TZOFFSETTO:-0500
TZNAME:EST
DTSTART:20251102T060000
END:STANDARD
BEGIN:DAYLIGHT
TZOFFSETFROM:-0500
TZOFFSETTO:-0400
TZNAME:EDT
DTSTART:20260308T070000
END:DAYLIGHT
BEGIN:STANDARD
TZOFFSETFROM:-0400
TZOFFSETTO:-0500
TZNAME:EST
DTSTART:20261101T060000
END:STANDARD
BEGIN:DAYLIGHT
TZOFFSETFROM:-0500
TZOFFSETTO:-0400
TZNAME:EDT
DTSTART:20270314T070000
END:DAYLIGHT
BEGIN:STANDARD
TZOFFSETFROM:-0400
TZOFFSETTO:-0500
TZNAME:EST
DTSTART:20271107T060000
END:STANDARD
END:VTIMEZONE
BEGIN:VEVENT
DTSTART;TZID=America/New_York:20260501T160000
DTEND;TZID=America/New_York:20260501T180000
DTSTAMP:20260421T222238
CREATED:20260220T221240Z
LAST-MODIFIED:20260220T221242Z
UID:10000029-1777651200-1777658400@wiltonwomensweek.org
SUMMARY:Sapphic Poetry by Candlelight
DESCRIPTION:An afternoon of feminine words steeped in blossom & brew!  We’re turning the lights down and letting the candles lead the way for an afternoon dedicated to sapphic storytelling and verse. Settle into a warm\, romantic atmosphere while powerful voices explore longing\, tenderness\, devotion\, and feminine strength. \n\n\n\nEnjoy freshly baked scones\, tea & coffee\, and curated lunch box specials available during the reading. Let the candles flicker…let the words linger. Come be held by poetry.
URL:https://wiltonwomensweek.org/event/sapphic-poetry-by-candlelight/
LOCATION:Aunt Jenn’s Tea & Spice Shop\, 2420 Wilton Drive\, Wilton Manors\, Florida\, 33305
ATTACH;FMTTYPE=image/jpeg:https://wiltonwomensweek.org/wp-content/uploads/2026/02/Sapphicpoetry.jpeg
ORGANIZER;CN="Aunt Jenn's Tea & Spice Shop":MAILTO:info@auntjenns.com
END:VEVENT
END:VCALENDAR